BEGIN:VCALENDAR
VERSION:2.0
PRODID:-//Evolved Education Company - ECPv6.15.20//NONSGML v1.0//EN
CALSCALE:GREGORIAN
METHOD:PUBLISH
X-WR-CALNAME:Evolved Education Company
X-ORIGINAL-URL:https://evolvededucationcompany.com
X-WR-CALDESC:Events for Evolved Education Company
REFRESH-INTERVAL;VALUE=DURATION:PT1H
X-Robots-Tag:noindex
X-PUBLISHED-TTL:PT1H
BEGIN:VTIMEZONE
TZID:America/New_York
BEGIN:DAYLIGHT
TZOFFSETFROM:-0500
TZOFFSETTO:-0400
TZNAME:EDT
DTSTART:20230312T070000
END:DAYLIGHT
BEGIN:STANDARD
TZOFFSETFROM:-0400
TZOFFSETTO:-0500
TZNAME:EST
DTSTART:20231105T060000
END:STANDARD
BEGIN:DAYLIGHT
TZOFFSETFROM:-0500
TZOFFSETTO:-0400
TZNAME:EDT
DTSTART:20240310T070000
END:DAYLIGHT
BEGIN:STANDARD
TZOFFSETFROM:-0400
TZOFFSETTO:-0500
TZNAME:EST
DTSTART:20241103T060000
END:STANDARD
BEGIN:DAYLIGHT
TZOFFSETFROM:-0500
TZOFFSETTO:-0400
TZNAME:EDT
DTSTART:20250309T070000
END:DAYLIGHT
BEGIN:STANDARD
TZOFFSETFROM:-0400
TZOFFSETTO:-0500
TZNAME:EST
DTSTART:20251102T060000
END:STANDARD
END:VTIMEZONE
BEGIN:VEVENT
DTSTART;TZID=America/New_York:20240229T193000
DTEND;TZID=America/New_York:20240229T203000
DTSTAMP:20260420T052735
CREATED:20240112T170345Z
LAST-MODIFIED:20240112T170345Z
UID:23537-1709235000-1709238600@evolvededucationcompany.com
SUMMARY:WHAT TO DO NOW SERIES: NYC ADMISSIONS\, Private Middle School Admissions Complimentary Event
DESCRIPTION:What To Do Now Series: \nNYC ADMISSIONS\, Private Middle School Admissions Complimentary Event. \nAre you planning to learn about NYC Admissions for Middle School for the Fall 2024 Season? Join us for an informative and interactive event where we will address all your questions and concerns about what you can do right now to be efficient and productive during this important process. Whether you are a parent new to this process or a parent who has gone through it with a sibling\, this event is for you! \nEvent Details: \n\nDate: February 29th\nTime: 7:30pm-8:30pm\nLocation: ZOOM\n\nEvent Speakers: \n\nSophie Roberts\, School Placement Advisor\nBecky Reback\, Head of Assessment Services\, Co-Head of School Placement Advisement\n\nRSVP: Please RSVP to secure your spot at this insightful event. Don’t miss this opportunity to gain valuable insights into the Spring To-Dos for NYC admissions for private middle school placement. \nWe look forward to having you join us for an engaging discussion on ways to act now to create a successful process this fall. Let’s work together to achieve your school placement goals!
URL:https://evolvededucationcompany.com/event/nyc-admissions-private-middle-school/
ATTACH;FMTTYPE=image/png:https://evolvededucationcompany.com/wp-content/uploads/2024/01/Complimentary-Admissions-Events.png
ORGANIZER;CN="Evolved Education Company":MAILTO:mary@evolvededucationcompany.com
END:VEVENT
END:VCALENDAR